BEGIN:VCALENDAR
VERSION:2.0
PRODID:-//Levita Formazione Informatica - ECPv6.3.2//NONSGML v1.0//EN
CALSCALE:GREGORIAN
METHOD:PUBLISH
X-WR-CALNAME:Levita Formazione Informatica
X-ORIGINAL-URL:https://academy.levitagroup.com
X-WR-CALDESC:Eventi per Levita Formazione Informatica
REFRESH-INTERVAL;VALUE=DURATION:PT1H
X-Robots-Tag:noindex
X-PUBLISHED-TTL:PT1H
BEGIN:VTIMEZONE
TZID:Europe/Rome
BEGIN:DAYLIGHT
TZOFFSETFROM:+0100
TZOFFSETTO:+0200
TZNAME:CEST
DTSTART:20180325T010000
END:DAYLIGHT
BEGIN:STANDARD
TZOFFSETFROM:+0200
TZOFFSETTO:+0100
TZNAME:CET
DTSTART:20181028T010000
END:STANDARD
END:VTIMEZONE
BEGIN:VEVENT
DTSTART;VALUE=DATE:20181105
DTEND;VALUE=DATE:20181106
DTSTAMP:20260426T062611
CREATED:20180903T135746Z
LAST-MODIFIED:20180914T102208Z
UID:9260-1541376000-1541462399@academy.levitagroup.com
SUMMARY:MOC 20742: Identity with Windows Server 2016 - Corso in Abbonamento
DESCRIPTION:Questo corso fa parte dell’offerta “Formazione in Abbonamento“. \n  \nPer maggiori informazioni ti invitiamo a consultare la pagina dedicata.
URL:https://academy.levitagroup.com/evento/moc-20742-identity-with-windows-server-2016-corso-in-abbonamento-3/
LOCATION:PCSNet Umbria\, via Monteneri 43\, Perugia\, Perugia\, 06129\, Italia
CATEGORIES:Sistemistica
ATTACH;FMTTYPE=image/jpeg:https://academy.levitagroup.com/wp-content/uploads/2016/08/MOC_on_demand.jpg
ORGANIZER;CN="PCSNet Umbria":MAILTO:info@pcsnetumbria.it
END:VEVENT
BEGIN:VEVENT
DTSTART;VALUE=DATE:20181107
DTEND;VALUE=DATE:20181108
DTSTAMP:20260426T062611
CREATED:20180903T135834Z
LAST-MODIFIED:20181030T171834Z
UID:9263-1541548800-1541635199@academy.levitagroup.com
SUMMARY:MOC 20742: Identity with Windows Server 2016 - Corso in Abbonamento
DESCRIPTION:
URL:https://academy.levitagroup.com/evento/moc-20742-identity-with-windows-server-2016-corso-in-abbonamento-4/
LOCATION:PCSNet Umbria\, via Monteneri 43\, Perugia\, Perugia\, 06129\, Italia
CATEGORIES:Sistemistica
ATTACH;FMTTYPE=image/jpeg:https://academy.levitagroup.com/wp-content/uploads/2016/08/MOC_on_demand.jpg
ORGANIZER;CN="PCSNet Umbria":MAILTO:info@pcsnetumbria.it
END:VEVENT
BEGIN:VEVENT
DTSTART;VALUE=DATE:20181109
DTEND;VALUE=DATE:20181110
DTSTAMP:20260426T062611
CREATED:20180903T135926Z
LAST-MODIFIED:20180914T102235Z
UID:9265-1541721600-1541807999@academy.levitagroup.com
SUMMARY:MOC 20742: Identity with Windows Server 2016 - Corso in Abbonamento
DESCRIPTION:Questo corso fa parte dell’offerta “Formazione in Abbonamento“. \n  \nPer maggiori informazioni ti invitiamo a consultare la pagina dedicata.
URL:https://academy.levitagroup.com/evento/moc-20742-identity-with-windows-server-2016-corso-in-abbonamento-5/
LOCATION:PCSNet Umbria\, via Monteneri 43\, Perugia\, Perugia\, 06129\, Italia
CATEGORIES:Sistemistica
ATTACH;FMTTYPE=image/jpeg:https://academy.levitagroup.com/wp-content/uploads/2016/08/MOC_on_demand.jpg
ORGANIZER;CN="PCSNet Umbria":MAILTO:info@pcsnetumbria.it
END:VEVENT
BEGIN:VEVENT
DTSTART;VALUE=DATE:20181112
DTEND;VALUE=DATE:20181113
DTSTAMP:20260426T062611
CREATED:20180903T140042Z
LAST-MODIFIED:20180914T102245Z
UID:9268-1541980800-1542067199@academy.levitagroup.com
SUMMARY:MOC 20742: Identity with Windows Server 2016 - Corso in Abbonamento
DESCRIPTION:Questo corso fa parte dell’offerta “Formazione in Abbonamento“. \n  \nPer maggiori informazioni ti invitiamo a consultare la pagina dedicata.
URL:https://academy.levitagroup.com/evento/moc-20742-identity-with-windows-server-2016-corso-in-abbonamento-6/
LOCATION:PCSNet Umbria\, via Monteneri 43\, Perugia\, Perugia\, 06129\, Italia
CATEGORIES:Sistemistica
ATTACH;FMTTYPE=image/jpeg:https://academy.levitagroup.com/wp-content/uploads/2016/08/MOC_on_demand.jpg
ORGANIZER;CN="PCSNet Umbria":MAILTO:info@pcsnetumbria.it
END:VEVENT
BEGIN:VEVENT
DTSTART;VALUE=DATE:20181114
DTEND;VALUE=DATE:20181115
DTSTAMP:20260426T062611
CREATED:20180903T140157Z
LAST-MODIFIED:20180914T102256Z
UID:9271-1542153600-1542239999@academy.levitagroup.com
SUMMARY:MOC 20742: Identity with Windows Server 2016 - Corso in Abbonamento
DESCRIPTION:Questo corso fa parte dell’offerta “Formazione in Abbonamento“. \n  \nPer maggiori informazioni ti invitiamo a consultare la pagina dedicata.
URL:https://academy.levitagroup.com/evento/moc-20742-identity-with-windows-server-2016-corso-in-abbonamento-7/
LOCATION:PCSNet Umbria\, via Monteneri 43\, Perugia\, Perugia\, 06129\, Italia
CATEGORIES:Sistemistica
ATTACH;FMTTYPE=image/jpeg:https://academy.levitagroup.com/wp-content/uploads/2016/08/MOC_on_demand.jpg
ORGANIZER;CN="PCSNet Umbria":MAILTO:info@pcsnetumbria.it
END:VEVENT
BEGIN:VEVENT
DTSTART;VALUE=DATE:20181116
DTEND;VALUE=DATE:20181117
DTSTAMP:20260426T062611
CREATED:20180903T140254Z
LAST-MODIFIED:20180914T102305Z
UID:9273-1542326400-1542412799@academy.levitagroup.com
SUMMARY:MOC 20742: Identity with Windows Server 2016 - Corso in Abbonamento
DESCRIPTION:Questo corso fa parte dell’offerta “Formazione in Abbonamento“. \n  \nPer maggiori informazioni ti invitiamo a consultare la pagina dedicata.
URL:https://academy.levitagroup.com/evento/moc-20742-identity-with-windows-server-2016-corso-in-abbonamento-8/
LOCATION:PCSNet Umbria\, via Monteneri 43\, Perugia\, Perugia\, 06129\, Italia
CATEGORIES:Sistemistica
ATTACH;FMTTYPE=image/jpeg:https://academy.levitagroup.com/wp-content/uploads/2016/08/MOC_on_demand.jpg
ORGANIZER;CN="PCSNet Umbria":MAILTO:info@pcsnetumbria.it
END:VEVENT
BEGIN:VEVENT
DTSTART;VALUE=DATE:20181119
DTEND;VALUE=DATE:20181120
DTSTAMP:20260426T062611
CREATED:20180903T140340Z
LAST-MODIFIED:20180914T102422Z
UID:9275-1542585600-1542671999@academy.levitagroup.com
SUMMARY:MOC 20742: Identity with Windows Server 2016 - Corso in Abbonamento
DESCRIPTION:Questo corso fa parte dell’offerta “Formazione in Abbonamento“. \n  \nPer maggiori informazioni ti invitiamo a consultare la pagina dedicata.
URL:https://academy.levitagroup.com/evento/moc-20742-identity-with-windows-server-2016-corso-in-abbonamento-9/
LOCATION:PCSNet Umbria\, via Monteneri 43\, Perugia\, Perugia\, 06129\, Italia
CATEGORIES:Sistemistica
ATTACH;FMTTYPE=image/jpeg:https://academy.levitagroup.com/wp-content/uploads/2016/08/MOC_on_demand.jpg
ORGANIZER;CN="PCSNet Umbria":MAILTO:info@pcsnetumbria.it
END:VEVENT
BEGIN:VEVENT
DTSTART;VALUE=DATE:20181121
DTEND;VALUE=DATE:20181122
DTSTAMP:20260426T062611
CREATED:20180903T140446Z
LAST-MODIFIED:20180914T102448Z
UID:9277-1542758400-1542844799@academy.levitagroup.com
SUMMARY:MOC 20742: Identity with Windows Server 2016 - Corso in Abbonamento
DESCRIPTION:Questo corso fa parte dell’offerta “Formazione in Abbonamento“. \n  \nPer maggiori informazioni ti invitiamo a consultare la pagina dedicata.
URL:https://academy.levitagroup.com/evento/moc-20742-identity-with-windows-server-2016-corso-in-abbonamento-10/
LOCATION:PCSNet Umbria\, via Monteneri 43\, Perugia\, Perugia\, 06129\, Italia
CATEGORIES:Sistemistica
ATTACH;FMTTYPE=image/jpeg:https://academy.levitagroup.com/wp-content/uploads/2016/08/MOC_on_demand.jpg
ORGANIZER;CN="PCSNet Umbria":MAILTO:info@pcsnetumbria.it
END:VEVENT
BEGIN:VEVENT
DTSTART;VALUE=DATE:20181126
DTEND;VALUE=DATE:20181127
DTSTAMP:20260426T062611
CREATED:20180903T134741Z
LAST-MODIFIED:20180914T102514Z
UID:9247-1543190400-1543276799@academy.levitagroup.com
SUMMARY:MOC 20744 - Securing Windows Server 2016 - Corso in Abbonamento
DESCRIPTION:Questo corso fa parte dell’offerta “Formazione in Abbonamento“. \n  \nPer maggiori informazioni ti invitiamo a consultare la pagina dedicata.
URL:https://academy.levitagroup.com/evento/moc-20744-securing-windows-server-2016-corso-in-abbonamento/
LOCATION:PCSNet Umbria\, via Monteneri 43\, Perugia\, Perugia\, 06129\, Italia
CATEGORIES:Sistemistica
ATTACH;FMTTYPE=image/jpeg:https://academy.levitagroup.com/wp-content/uploads/2016/08/MOC_on_demand.jpg
ORGANIZER;CN="PCSNet Umbria":MAILTO:info@pcsnetumbria.it
END:VEVENT
BEGIN:VEVENT
DTSTART;VALUE=DATE:20181128
DTEND;VALUE=DATE:20181129
DTSTAMP:20260426T062611
CREATED:20180903T134824Z
LAST-MODIFIED:20180914T102541Z
UID:9249-1543363200-1543449599@academy.levitagroup.com
SUMMARY:MOC 20744 - Securing Windows Server 2016 - Corso in Abbonamento
DESCRIPTION:Questo corso fa parte dell’offerta “Formazione in Abbonamento“. \n  \nPer maggiori informazioni ti invitiamo a consultare la pagina dedicata.
URL:https://academy.levitagroup.com/evento/moc-20744-securing-windows-server-2016-corso-in-abbonamento-2/
LOCATION:PCSNet Umbria\, via Monteneri 43\, Perugia\, Perugia\, 06129\, Italia
CATEGORIES:Sistemistica
ATTACH;FMTTYPE=image/jpeg:https://academy.levitagroup.com/wp-content/uploads/2016/08/MOC_on_demand.jpg
ORGANIZER;CN="PCSNet Umbria":MAILTO:info@pcsnetumbria.it
END:VEVENT
BEGIN:VEVENT
DTSTART;VALUE=DATE:20181203
DTEND;VALUE=DATE:20181204
DTSTAMP:20260426T062611
CREATED:20180903T134909Z
LAST-MODIFIED:20180914T102609Z
UID:9251-1543795200-1543881599@academy.levitagroup.com
SUMMARY:MOC 20744 - Securing Windows Server 2016 - Corso in Abbonamento
DESCRIPTION:Questo corso fa parte dell’offerta “Formazione in Abbonamento“. \n  \nPer maggiori informazioni ti invitiamo a consultare la pagina dedicata.
URL:https://academy.levitagroup.com/evento/moc-20744-securing-windows-server-2016-corso-in-abbonamento-3/
LOCATION:PCSNet Umbria\, via Monteneri 43\, Perugia\, Perugia\, 06129\, Italia
CATEGORIES:Sistemistica
ATTACH;FMTTYPE=image/jpeg:https://academy.levitagroup.com/wp-content/uploads/2016/08/MOC_on_demand.jpg
ORGANIZER;CN="PCSNet Umbria":MAILTO:info@pcsnetumbria.it
END:VEVENT
BEGIN:VEVENT
DTSTART;VALUE=DATE:20181205
DTEND;VALUE=DATE:20181206
DTSTAMP:20260426T062611
CREATED:20180903T134946Z
LAST-MODIFIED:20180914T102632Z
UID:9253-1543968000-1544054399@academy.levitagroup.com
SUMMARY:MOC 20744 - Securing Windows Server 2016 - Corso in Abbonamento
DESCRIPTION:Questo corso fa parte dell’offerta “Formazione in Abbonamento“. \n  \nPer maggiori informazioni ti invitiamo a consultare la pagina dedicata.
URL:https://academy.levitagroup.com/evento/moc-20744-securing-windows-server-2016-corso-in-abbonamento-4/
LOCATION:PCSNet Umbria\, via Monteneri 43\, Perugia\, Perugia\, 06129\, Italia
CATEGORIES:Sistemistica
ATTACH;FMTTYPE=image/jpeg:https://academy.levitagroup.com/wp-content/uploads/2016/08/MOC_on_demand.jpg
ORGANIZER;CN="PCSNet Umbria":MAILTO:info@pcsnetumbria.it
END:VEVENT
BEGIN:VEVENT
DTSTART;VALUE=DATE:20181210
DTEND;VALUE=DATE:20181211
DTSTAMP:20260426T062611
CREATED:20180903T135040Z
LAST-MODIFIED:20180914T102701Z
UID:9255-1544400000-1544486399@academy.levitagroup.com
SUMMARY:MOC 20744 - Securing Windows Server 2016 - Corso in Abbonamento
DESCRIPTION:Questo corso fa parte dell’offerta “Formazione in Abbonamento“. \n  \nPer maggiori informazioni ti invitiamo a consultare la pagina dedicata.
URL:https://academy.levitagroup.com/evento/moc-20744-securing-windows-server-2016-corso-in-abbonamento-5/
LOCATION:PCSNet Umbria\, via Monteneri 43\, Perugia\, Perugia\, 06129\, Italia
CATEGORIES:Sistemistica
ATTACH;FMTTYPE=image/jpeg:https://academy.levitagroup.com/wp-content/uploads/2016/08/MOC_on_demand.jpg
ORGANIZER;CN="PCSNet Umbria":MAILTO:info@pcsnetumbria.it
END:VEVENT
END:VCALENDAR